BEGIN:VCALENDAR
VERSION:2.0
PRODID:Assembleia de Freguesia
X-WR-CALNAME:Assembleia de Freguesia
X-WR-TIMEZONE:Europe/Lisbon
X-PUBLISHED-TTL:P1W
BEGIN:VTIMEZONE
TZID:Europe/Lisbon
X-LIC-LOCATION:Europe/Lisbon
END:VTIMEZONE
BEGIN:VEVENT
UID:69e767f0d701e
DTSTART;VALUE=DATE:20260423
SEQUENCE:0
TRANSP:OPAQUE
DTEND;VALUE=DATE:20260424
SUMMARY:Assembleia de Freguesia
CLASS:PUBLIC
DESCRIPTION:Assembleia de FreguesiaInforma-se a população que se realizar
 á\, no próximo dia 23 de abril\, a Assembleia de Freguesia.
X-MICROSOFT-CDO-ALLDAYEVENT:TRUE
DTSTAMP:20260421T120504Z
END:VEVENT
END:VCALENDAR